BEGIN:VCALENDAR
VERSION:2.0
PRODID:-//Holy Family Ukrainian Catholic Church - ECPv5.7.1//NONSGML v1.0//EN
CALSCALE:GREGORIAN
METHOD:PUBLISH
X-WR-CALNAME:Holy Family Ukrainian Catholic Church
X-ORIGINAL-URL:https://holyfamilyparishmb.ca
X-WR-CALDESC:Events for Holy Family Ukrainian Catholic Church
BEGIN:VTIMEZONE
TZID:America/Winnipeg
BEGIN:DAYLIGHT
TZOFFSETFROM:-0600
TZOFFSETTO:-0500
TZNAME:CDT
DTSTART:20240310T080000
END:DAYLIGHT
BEGIN:STANDARD
TZOFFSETFROM:-0500
TZOFFSETTO:-0600
TZNAME:CST
DTSTART:20241103T070000
END:STANDARD
END:VTIMEZONE
BEGIN:VEVENT
DTSTART;VALUE=DATE:20240602
DTEND;VALUE=DATE:20240603
DTSTAMP:20260423T042321
CREATED:20240529T000130Z
LAST-MODIFIED:20240529T000130Z
UID:7169-1717286400-1717372799@holyfamilyparishmb.ca
SUMMARY:Св Укр Народу Sts of Ukraine
DESCRIPTION:
URL:https://holyfamilyparishmb.ca/event/%d1%81%d0%b2-%d1%83%d0%ba%d1%80-%d0%bd%d0%b0%d1%80%d0%be%d0%b4%d1%83-sts-of-ukraine-3/
END:VEVENT
END:VCALENDAR