BEGIN:VCALENDAR
VERSION:2.0
PRODID:-//Holy Family Ukrainian Catholic Church - ECPv5.7.1//NONSGML v1.0//EN
CALSCALE:GREGORIAN
METHOD:PUBLISH
X-WR-CALNAME:Holy Family Ukrainian Catholic Church
X-ORIGINAL-URL:https://holyfamilyparishmb.ca
X-WR-CALDESC:Events for Holy Family Ukrainian Catholic Church
BEGIN:VTIMEZONE
TZID:America/Winnipeg
BEGIN:DAYLIGHT
TZOFFSETFROM:-0600
TZOFFSETTO:-0500
TZNAME:CDT
DTSTART:20230312T080000
END:DAYLIGHT
BEGIN:STANDARD
TZOFFSETFROM:-0500
TZOFFSETTO:-0600
TZNAME:CST
DTSTART:20231105T070000
END:STANDARD
END:VTIMEZONE
BEGIN:VEVENT
DTSTART;TZID=America/Winnipeg:20231105T080000
DTEND;TZID=America/Winnipeg:20231105T170000
DTSTAMP:20260423T181339
CREATED:20231030T213114Z
LAST-MODIFIED:20231030T213114Z
UID:6113-1699171200-1699203600@holyfamilyparishmb.ca
SUMMARY:23rd Sunday after Pentecost
DESCRIPTION:
URL:https://holyfamilyparishmb.ca/event/23rd-sunday-after-pentecost-2/
CATEGORIES:23rd Sunday after Pentecost
END:VEVENT
END:VCALENDAR