BEGIN:VCALENDAR
VERSION:2.0
PRODID:-//Holy Family Ukrainian Catholic Church - ECPv5.7.1//NONSGML v1.0//EN
CALSCALE:GREGORIAN
METHOD:PUBLISH
X-WR-CALNAME:Holy Family Ukrainian Catholic Church
X-ORIGINAL-URL:https://holyfamilyparishmb.ca
X-WR-CALDESC:Events for Holy Family Ukrainian Catholic Church
BEGIN:VTIMEZONE
TZID:America/Winnipeg
BEGIN:DAYLIGHT
TZOFFSETFROM:-0600
TZOFFSETTO:-0500
TZNAME:CDT
DTSTART:20230312T080000
END:DAYLIGHT
BEGIN:STANDARD
TZOFFSETFROM:-0500
TZOFFSETTO:-0600
TZNAME:CST
DTSTART:20231105T070000
END:STANDARD
END:VTIMEZONE
BEGIN:VEVENT
DTSTART;TZID=America/Winnipeg:20231105T101500
DTEND;TZID=America/Winnipeg:20231105T111500
DTSTAMP:20260423T152517
CREATED:20231030T213502Z
LAST-MODIFIED:20231030T213502Z
UID:6126-1699179300-1699182900@holyfamilyparishmb.ca
SUMMARY:Catechism Class
DESCRIPTION:
URL:https://holyfamilyparishmb.ca/event/catechism-class-6/2023-11-05/
CATEGORIES:Catechism
END:VEVENT
END:VCALENDAR