BEGIN:VCALENDAR
VERSION:2.0
PRODID:-//Holy Family Ukrainian Catholic Church - ECPv5.7.1//NONSGML v1.0//EN
CALSCALE:GREGORIAN
METHOD:PUBLISH
X-WR-CALNAME:Holy Family Ukrainian Catholic Church
X-ORIGINAL-URL:https://holyfamilyparishmb.ca
X-WR-CALDESC:Events for Holy Family Ukrainian Catholic Church
BEGIN:VTIMEZONE
TZID:America/Winnipeg
BEGIN:DAYLIGHT
TZOFFSETFROM:-0600
TZOFFSETTO:-0500
TZNAME:CDT
DTSTART:20240310T080000
END:DAYLIGHT
BEGIN:STANDARD
TZOFFSETFROM:-0500
TZOFFSETTO:-0600
TZNAME:CST
DTSTART:20241103T070000
END:STANDARD
END:VTIMEZONE
BEGIN:VEVENT
DTSTART;TZID=America/Winnipeg:20240114T101500
DTEND;TZID=America/Winnipeg:20240114T111500
DTSTAMP:20260422T234242
CREATED:20240101T002235Z
LAST-MODIFIED:20240101T002235Z
UID:6452-1705227300-1705230900@holyfamilyparishmb.ca
SUMMARY:Catechism Class
DESCRIPTION:
URL:https://holyfamilyparishmb.ca/event/catechism-class-7/2024-01-14/
CATEGORIES:Catechism
END:VEVENT
END:VCALENDAR