BEGIN:VCALENDAR
VERSION:2.0
PRODID:-//Holy Family Ukrainian Catholic Church - ECPv5.7.1//NONSGML v1.0//EN
CALSCALE:GREGORIAN
METHOD:PUBLISH
X-WR-CALNAME:Holy Family Ukrainian Catholic Church
X-ORIGINAL-URL:https://holyfamilyparishmb.ca
X-WR-CALDESC:Events for Holy Family Ukrainian Catholic Church
BEGIN:VTIMEZONE
TZID:America/Winnipeg
BEGIN:DAYLIGHT
TZOFFSETFROM:-0600
TZOFFSETTO:-0500
TZNAME:CDT
DTSTART:20230312T080000
END:DAYLIGHT
BEGIN:STANDARD
TZOFFSETFROM:-0500
TZOFFSETTO:-0600
TZNAME:CST
DTSTART:20231105T070000
END:STANDARD
END:VTIMEZONE
BEGIN:VEVENT
DTSTART;TZID=America/Winnipeg:20231225T110000
DTEND;TZID=America/Winnipeg:20231225T120000
DTSTAMP:20260421T180507
CREATED:20231126T205154Z
LAST-MODIFIED:20231126T205235Z
UID:6201-1703502000-1703505600@holyfamilyparishmb.ca
SUMMARY:Christmas РІЗДВО XРИСТОВЕ 11 am (Eng/Ukr )
DESCRIPTION:
URL:https://holyfamilyparishmb.ca/event/christmas-%d1%80%d1%96%d0%b7%d0%b4%d0%b2%d0%be-x%d1%80%d0%b8%d1%81%d1%82%d0%be%d0%b2%d0%b5-11-am-eng-ukr/
CATEGORIES:Christmas
END:VEVENT
END:VCALENDAR