BEGIN:VCALENDAR
VERSION:2.0
PRODID:-//Holy Family Ukrainian Catholic Church - ECPv5.7.1//NONSGML v1.0//EN
CALSCALE:GREGORIAN
METHOD:PUBLISH
X-WR-CALNAME:Holy Family Ukrainian Catholic Church
X-ORIGINAL-URL:https://holyfamilyparishmb.ca
X-WR-CALDESC:Events for Holy Family Ukrainian Catholic Church
BEGIN:VTIMEZONE
TZID:America/Winnipeg
BEGIN:DAYLIGHT
TZOFFSETFROM:-0600
TZOFFSETTO:-0500
TZNAME:CDT
DTSTART:20240310T080000
END:DAYLIGHT
BEGIN:STANDARD
TZOFFSETFROM:-0500
TZOFFSETTO:-0600
TZNAME:CST
DTSTART:20241103T070000
END:STANDARD
END:VTIMEZONE
BEGIN:VEVENT
DTSTART;TZID=America/Winnipeg:20241224T220000
DTEND;TZID=America/Winnipeg:20241224T230000
DTSTAMP:20260424T020815
CREATED:20241203T021043Z
LAST-MODIFIED:20241203T021043Z
UID:7983-1735077600-1735081200@holyfamilyparishmb.ca
SUMMARY:Compline and Divine Liturgy
DESCRIPTION:
URL:https://holyfamilyparishmb.ca/event/compline-and-divine-liturgy/
END:VEVENT
END:VCALENDAR