BEGIN:VCALENDAR
VERSION:2.0
PRODID:-//Holy Family Ukrainian Catholic Church - ECPv5.7.1//NONSGML v1.0//EN
CALSCALE:GREGORIAN
METHOD:PUBLISH
X-WR-CALNAME:Holy Family Ukrainian Catholic Church
X-ORIGINAL-URL:https://holyfamilyparishmb.ca
X-WR-CALDESC:Events for Holy Family Ukrainian Catholic Church
BEGIN:VTIMEZONE
TZID:America/Winnipeg
BEGIN:DAYLIGHT
TZOFFSETFROM:-0600
TZOFFSETTO:-0500
TZNAME:CDT
DTSTART:20240310T080000
END:DAYLIGHT
BEGIN:STANDARD
TZOFFSETFROM:-0500
TZOFFSETTO:-0600
TZNAME:CST
DTSTART:20241103T070000
END:STANDARD
END:VTIMEZONE
BEGIN:VEVENT
DTSTART;TZID=America/Winnipeg:20240714T100000
DTEND;TZID=America/Winnipeg:20240714T110000
DTSTAMP:20260421T050140
CREATED:20240626T215859Z
LAST-MODIFIED:20240626T215859Z
UID:7263-1720951200-1720954800@holyfamilyparishmb.ca
SUMMARY:Divine Liturgy
DESCRIPTION:
URL:https://holyfamilyparishmb.ca/event/divine-liturgy-104/2024-07-14/
CATEGORIES:Divine Liturgy
END:VEVENT
END:VCALENDAR