BEGIN:VCALENDAR
VERSION:2.0
PRODID:-//Holy Family Ukrainian Catholic Church - ECPv5.7.1//NONSGML v1.0//EN
CALSCALE:GREGORIAN
METHOD:PUBLISH
X-WR-CALNAME:Holy Family Ukrainian Catholic Church
X-ORIGINAL-URL:https://holyfamilyparishmb.ca
X-WR-CALDESC:Events for Holy Family Ukrainian Catholic Church
BEGIN:VTIMEZONE
TZID:America/Winnipeg
BEGIN:DAYLIGHT
TZOFFSETFROM:-0600
TZOFFSETTO:-0500
TZNAME:CDT
DTSTART:20250309T080000
END:DAYLIGHT
BEGIN:STANDARD
TZOFFSETFROM:-0500
TZOFFSETTO:-0600
TZNAME:CST
DTSTART:20251102T070000
END:STANDARD
END:VTIMEZONE
BEGIN:VEVENT
DTSTART;TZID=America/Winnipeg:20250306T090000
DTEND;TZID=America/Winnipeg:20250306T100000
DTSTAMP:20260422T034239
CREATED:20250223T203137Z
LAST-MODIFIED:20250223T203137Z
UID:8307-1741251600-1741255200@holyfamilyparishmb.ca
SUMMARY:Divine Liturgy
DESCRIPTION:
URL:https://holyfamilyparishmb.ca/event/divine-liturgy-121/2025-03-06/
END:VEVENT
END:VCALENDAR