BEGIN:VCALENDAR
VERSION:2.0
PRODID:-//Holy Family Ukrainian Catholic Church - ECPv5.7.1//NONSGML v1.0//EN
CALSCALE:GREGORIAN
METHOD:PUBLISH
X-WR-CALNAME:Holy Family Ukrainian Catholic Church
X-ORIGINAL-URL:https://holyfamilyparishmb.ca
X-WR-CALDESC:Events for Holy Family Ukrainian Catholic Church
BEGIN:VTIMEZONE
TZID:America/Winnipeg
BEGIN:DAYLIGHT
TZOFFSETFROM:-0600
TZOFFSETTO:-0500
TZNAME:CDT
DTSTART:20250309T080000
END:DAYLIGHT
BEGIN:STANDARD
TZOFFSETFROM:-0500
TZOFFSETTO:-0600
TZNAME:CST
DTSTART:20251102T070000
END:STANDARD
END:VTIMEZONE
BEGIN:VEVENT
DTSTART;VALUE=DATE:20250303
DTEND;VALUE=DATE:20250304
DTSTAMP:20260422T034744
CREATED:20250222T235535Z
LAST-MODIFIED:20250222T235535Z
UID:8111-1740960000-1741046399@holyfamilyparishmb.ca
SUMMARY:First Day of Lent Strict Day of Fasting Перший день посту Строгий піст
DESCRIPTION:
URL:https://holyfamilyparishmb.ca/event/first-day-of-lent-strict-day-of-fasting-%d0%bf%d0%b5%d1%80%d1%88%d0%b8%d0%b9-%d0%b4%d0%b5%d0%bd%d1%8c-%d0%bf%d0%be%d1%81%d1%82%d1%83-%d1%81%d1%82%d1%80%d0%be%d0%b3%d0%b8%d0%b9-%d0%bf%d1%96%d1%81%d1%82/
END:VEVENT
END:VCALENDAR