BEGIN:VCALENDAR
VERSION:2.0
PRODID:-//Holy Family Ukrainian Catholic Church - ECPv5.7.1//NONSGML v1.0//EN
CALSCALE:GREGORIAN
METHOD:PUBLISH
X-WR-CALNAME:Holy Family Ukrainian Catholic Church
X-ORIGINAL-URL:https://holyfamilyparishmb.ca
X-WR-CALDESC:Events for Holy Family Ukrainian Catholic Church
BEGIN:VTIMEZONE
TZID:America/Winnipeg
BEGIN:DAYLIGHT
TZOFFSETFROM:-0600
TZOFFSETTO:-0500
TZNAME:CDT
DTSTART:20240310T080000
END:DAYLIGHT
BEGIN:STANDARD
TZOFFSETFROM:-0500
TZOFFSETTO:-0600
TZNAME:CST
DTSTART:20241103T070000
END:STANDARD
END:VTIMEZONE
BEGIN:VEVENT
DTSTART;TZID=America/Winnipeg:20240604T193000
DTEND;TZID=America/Winnipeg:20240604T203000
DTSTAMP:20260423T112612
CREATED:20240528T235326Z
LAST-MODIFIED:20240528T235326Z
UID:7141-1717529400-1717533000@holyfamilyparishmb.ca
SUMMARY:K of C Meeting
DESCRIPTION:
URL:https://holyfamilyparishmb.ca/event/k-of-c-meeting-4/
CATEGORIES:Knights of Columbus meeting
END:VEVENT
END:VCALENDAR