BEGIN:VCALENDAR
VERSION:2.0
PRODID:-//Holy Family Ukrainian Catholic Church - ECPv5.7.1//NONSGML v1.0//EN
CALSCALE:GREGORIAN
METHOD:PUBLISH
X-WR-CALNAME:Holy Family Ukrainian Catholic Church
X-ORIGINAL-URL:https://holyfamilyparishmb.ca
X-WR-CALDESC:Events for Holy Family Ukrainian Catholic Church
BEGIN:VTIMEZONE
TZID:America/Winnipeg
BEGIN:DAYLIGHT
TZOFFSETFROM:-0600
TZOFFSETTO:-0500
TZNAME:CDT
DTSTART:20240310T080000
END:DAYLIGHT
BEGIN:STANDARD
TZOFFSETFROM:-0500
TZOFFSETTO:-0600
TZNAME:CST
DTSTART:20241103T070000
END:STANDARD
END:VTIMEZONE
BEGIN:VEVENT
DTSTART;VALUE=DATE:20240109
DTEND;VALUE=DATE:20240110
DTSTAMP:20260422T193148
CREATED:20240101T001131Z
LAST-MODIFIED:20240101T001131Z
UID:6419-1704758400-1704844799@holyfamilyparishmb.ca
SUMMARY:No Pastoral Council Meeting
DESCRIPTION:
URL:https://holyfamilyparishmb.ca/event/no-pastoral-council-meeting-2/
END:VEVENT
END:VCALENDAR