BEGIN:VCALENDAR
VERSION:2.0
PRODID:-//Holy Family Ukrainian Catholic Church - ECPv5.7.1//NONSGML v1.0//EN
CALSCALE:GREGORIAN
METHOD:PUBLISH
X-WR-CALNAME:Holy Family Ukrainian Catholic Church
X-ORIGINAL-URL:https://holyfamilyparishmb.ca
X-WR-CALDESC:Events for Holy Family Ukrainian Catholic Church
BEGIN:VTIMEZONE
TZID:America/Winnipeg
BEGIN:DAYLIGHT
TZOFFSETFROM:-0600
TZOFFSETTO:-0500
TZNAME:CDT
DTSTART:20230312T080000
END:DAYLIGHT
BEGIN:STANDARD
TZOFFSETFROM:-0500
TZOFFSETTO:-0600
TZNAME:CST
DTSTART:20231105T070000
END:STANDARD
END:VTIMEZONE
BEGIN:VEVENT
DTSTART;TZID=America/Winnipeg:20231104T080000
DTEND;TZID=America/Winnipeg:20231104T170000
DTSTAMP:20260423T194659
CREATED:20230831T012900Z
LAST-MODIFIED:20230831T012900Z
UID:5893-1699084800-1699117200@holyfamilyparishmb.ca
SUMMARY:Office Closed офіс зачинений
DESCRIPTION:
URL:https://holyfamilyparishmb.ca/event/office-closed-%d0%be%d1%84%d1%96%d1%81-%d0%b7%d0%b0%d1%87%d0%b8%d0%bd%d0%b5%d0%bd%d0%b8%d0%b9-31/2023-11-04/
END:VEVENT
END:VCALENDAR