BEGIN:VCALENDAR
VERSION:2.0
PRODID:-//Holy Family Ukrainian Catholic Church - ECPv5.7.1//NONSGML v1.0//EN
CALSCALE:GREGORIAN
METHOD:PUBLISH
X-WR-CALNAME:Holy Family Ukrainian Catholic Church
X-ORIGINAL-URL:https://holyfamilyparishmb.ca
X-WR-CALDESC:Events for Holy Family Ukrainian Catholic Church
BEGIN:VTIMEZONE
TZID:America/Winnipeg
BEGIN:DAYLIGHT
TZOFFSETFROM:-0600
TZOFFSETTO:-0500
TZNAME:CDT
DTSTART:20240310T080000
END:DAYLIGHT
BEGIN:STANDARD
TZOFFSETFROM:-0500
TZOFFSETTO:-0600
TZNAME:CST
DTSTART:20241103T070000
END:STANDARD
END:VTIMEZONE
BEGIN:VEVENT
DTSTART;TZID=America/Winnipeg:20241010T184500
DTEND;TZID=America/Winnipeg:20241010T194500
DTSTAMP:20260423T064114
CREATED:20241002T012233Z
LAST-MODIFIED:20241002T012233Z
UID:7634-1728585900-1728589500@holyfamilyparishmb.ca
SUMMARY:Prayer Group
DESCRIPTION:
URL:https://holyfamilyparishmb.ca/event/prayer-group-32/2024-10-10/
CATEGORIES:Prayer Group
END:VEVENT
END:VCALENDAR