BEGIN:VCALENDAR
VERSION:2.0
PRODID:-//Holy Family Ukrainian Catholic Church - ECPv5.7.1//NONSGML v1.0//EN
CALSCALE:GREGORIAN
METHOD:PUBLISH
X-WR-CALNAME:Holy Family Ukrainian Catholic Church
X-ORIGINAL-URL:https://holyfamilyparishmb.ca
X-WR-CALDESC:Events for Holy Family Ukrainian Catholic Church
BEGIN:VTIMEZONE
TZID:America/Winnipeg
BEGIN:DAYLIGHT
TZOFFSETFROM:-0600
TZOFFSETTO:-0500
TZNAME:CDT
DTSTART:20240310T080000
END:DAYLIGHT
BEGIN:STANDARD
TZOFFSETFROM:-0500
TZOFFSETTO:-0600
TZNAME:CST
DTSTART:20241103T070000
END:STANDARD
END:VTIMEZONE
BEGIN:VEVENT
DTSTART;TZID=America/Winnipeg:20240911T083000
DTEND;TZID=America/Winnipeg:20240911T090000
DTSTAMP:20260423T023421
CREATED:20240829T224831Z
LAST-MODIFIED:20240829T225017Z
UID:7436-1726043400-1726045200@holyfamilyparishmb.ca
SUMMARY:Rosary
DESCRIPTION:
URL:https://holyfamilyparishmb.ca/event/rosary-65/2024-09-11/
CATEGORIES:Rosary
END:VEVENT
END:VCALENDAR