BEGIN:VCALENDAR
VERSION:2.0
PRODID:-//Holy Family Ukrainian Catholic Church - ECPv5.7.1//NONSGML v1.0//EN
CALSCALE:GREGORIAN
METHOD:PUBLISH
X-WR-CALNAME:Holy Family Ukrainian Catholic Church
X-ORIGINAL-URL:https://holyfamilyparishmb.ca
X-WR-CALDESC:Events for Holy Family Ukrainian Catholic Church
BEGIN:VTIMEZONE
TZID:America/Winnipeg
BEGIN:DAYLIGHT
TZOFFSETFROM:-0600
TZOFFSETTO:-0500
TZNAME:CDT
DTSTART:20250309T080000
END:DAYLIGHT
BEGIN:STANDARD
TZOFFSETFROM:-0500
TZOFFSETTO:-0600
TZNAME:CST
DTSTART:20251102T070000
END:STANDARD
END:VTIMEZONE
BEGIN:VEVENT
DTSTART;TZID=America/Winnipeg:20250926T170000
DTEND;TZID=America/Winnipeg:20250926T190000
DTSTAMP:20260422T034124
CREATED:20250829T193659Z
LAST-MODIFIED:20250829T193659Z
UID:9443-1758906000-1758913200@holyfamilyparishmb.ca
SUMMARY:5-7 pm - Perogy Supper
DESCRIPTION:
URL:https://holyfamilyparishmb.ca/event/5-7-pm-perogy-supper/
END:VEVENT
BEGIN:VEVENT
DTSTART;TZID=America/Winnipeg:20250926T183000
DTEND;TZID=America/Winnipeg:20250926T184500
DTSTAMP:20260422T034124
CREATED:20250829T192836Z
LAST-MODIFIED:20250829T192836Z
UID:9437-1758911400-1758912300@holyfamilyparishmb.ca
SUMMARY:6:30 pm - Rosary/Confession
DESCRIPTION:
URL:https://holyfamilyparishmb.ca/event/630-pm-rosary-confession/2025-09-26/
END:VEVENT
BEGIN:VEVENT
DTSTART;TZID=America/Winnipeg:20250926T190000
DTEND;TZID=America/Winnipeg:20250926T200000
DTSTAMP:20260422T034124
CREATED:20250829T192907Z
LAST-MODIFIED:20250829T192907Z
UID:9442-1758913200-1758916800@holyfamilyparishmb.ca
SUMMARY:7:00 pm - Divine Liturgy
DESCRIPTION:
URL:https://holyfamilyparishmb.ca/event/700-pm-divine-liturgy-2/2025-09-26/
END:VEVENT
END:VCALENDAR