BEGIN:VCALENDAR
VERSION:2.0
PRODID:-//Holy Family Ukrainian Catholic Church - ECPv5.7.1//NONSGML v1.0//EN
CALSCALE:GREGORIAN
METHOD:PUBLISH
X-WR-CALNAME:Holy Family Ukrainian Catholic Church
X-ORIGINAL-URL:https://holyfamilyparishmb.ca
X-WR-CALDESC:Events for Holy Family Ukrainian Catholic Church
BEGIN:VTIMEZONE
TZID:America/Winnipeg
BEGIN:DAYLIGHT
TZOFFSETFROM:-0600
TZOFFSETTO:-0500
TZNAME:CDT
DTSTART:20250309T080000
END:DAYLIGHT
BEGIN:STANDARD
TZOFFSETFROM:-0500
TZOFFSETTO:-0600
TZNAME:CST
DTSTART:20251102T070000
END:STANDARD
END:VTIMEZONE
BEGIN:VEVENT
DTSTART;TZID=America/Winnipeg:20251023T083000
DTEND;TZID=America/Winnipeg:20251023T084500
DTSTAMP:20260421T164313
CREATED:20250925T163352Z
LAST-MODIFIED:20250925T163352Z
UID:9537-1761208200-1761209100@holyfamilyparishmb.ca
SUMMARY:8:30 am - Rosary / Confession
DESCRIPTION:
URL:https://holyfamilyparishmb.ca/event/830-am-rosary-confession-6/2025-10-23/
END:VEVENT
BEGIN:VEVENT
DTSTART;TZID=America/Winnipeg:20251023T090000
DTEND;TZID=America/Winnipeg:20251023T100000
DTSTAMP:20260421T164313
CREATED:20250925T163458Z
LAST-MODIFIED:20250925T163458Z
UID:9541-1761210000-1761213600@holyfamilyparishmb.ca
SUMMARY:9:00 am - Divine Liturgy
DESCRIPTION:
URL:https://holyfamilyparishmb.ca/event/900-am-divine-liturgy-6/2025-10-23/
END:VEVENT
BEGIN:VEVENT
DTSTART;TZID=America/Winnipeg:20251023T190000
DTEND;TZID=America/Winnipeg:20251023T210000
DTSTAMP:20260421T164313
CREATED:20250925T163538Z
LAST-MODIFIED:20250925T163812Z
UID:9556-1761246000-1761253200@holyfamilyparishmb.ca
SUMMARY:7:00 pm - Prayer Group
DESCRIPTION:
URL:https://holyfamilyparishmb.ca/event/700-pm-prayer-group-3/2025-10-23/
END:VEVENT
END:VCALENDAR