BEGIN:VCALENDAR
VERSION:2.0
PRODID:-//Holy Family Ukrainian Catholic Church - ECPv5.7.1//NONSGML v1.0//EN
CALSCALE:GREGORIAN
METHOD:PUBLISH
X-WR-CALNAME:Holy Family Ukrainian Catholic Church
X-ORIGINAL-URL:https://holyfamilyparishmb.ca
X-WR-CALDESC:Events for Holy Family Ukrainian Catholic Church
BEGIN:VTIMEZONE
TZID:America/Winnipeg
BEGIN:DAYLIGHT
TZOFFSETFROM:-0600
TZOFFSETTO:-0500
TZNAME:CDT
DTSTART:20240310T080000
END:DAYLIGHT
BEGIN:STANDARD
TZOFFSETFROM:-0500
TZOFFSETTO:-0600
TZNAME:CST
DTSTART:20241103T070000
END:STANDARD
END:VTIMEZONE
BEGIN:VEVENT
DTSTART;TZID=America/Winnipeg:20240804T090000
DTEND;TZID=America/Winnipeg:20240804T100000
DTSTAMP:20260423T000945
CREATED:20240801T003054Z
LAST-MODIFIED:20240801T003054Z
UID:7332-1722762000-1722765600@holyfamilyparishmb.ca
SUMMARY:Divine Liturgy (ENG)
DESCRIPTION:
URL:https://holyfamilyparishmb.ca/event/divine-liturgy-eng-20/2024-08-04/
CATEGORIES:Divine Liturgy (Eng)
END:VEVENT
END:VCALENDAR